BEGIN:VCALENDAR
VERSION:2.0
PRODID:-//St. Thomas Episcopal Church - ECPv6.0.6.2//NONSGML v1.0//EN
CALSCALE:GREGORIAN
METHOD:PUBLISH
X-WR-CALNAME:St. Thomas Episcopal Church
X-ORIGINAL-URL:https://stthomasbushwick.org
X-WR-CALDESC:Events for St. Thomas Episcopal Church
REFRESH-INTERVAL;VALUE=DURATION:PT1H
X-Robots-Tag:noindex
X-PUBLISHED-TTL:PT1H
BEGIN:VTIMEZONE
TZID:America/New_York
BEGIN:DAYLIGHT
TZOFFSETFROM:-0500
TZOFFSETTO:-0400
TZNAME:EDT
DTSTART:20230312T070000
END:DAYLIGHT
BEGIN:STANDARD
TZOFFSETFROM:-0400
TZOFFSETTO:-0500
TZNAME:EST
DTSTART:20231105T060000
END:STANDARD
BEGIN:DAYLIGHT
TZOFFSETFROM:-0500
TZOFFSETTO:-0400
TZNAME:EDT
DTSTART:20240310T070000
END:DAYLIGHT
BEGIN:STANDARD
TZOFFSETFROM:-0400
TZOFFSETTO:-0500
TZNAME:EST
DTSTART:20241103T060000
END:STANDARD
END:VTIMEZONE
BEGIN:VEVENT
DTSTART;TZID=America/New_York:20240113T100000
DTEND;TZID=America/New_York:20240113T140000
DTSTAMP:20260422T183835
CREATED:20221201T041729Z
LAST-MODIFIED:20230916T021815Z
UID:1867-1705140000-1705154400@stthomasbushwick.org
SUMMARY:Saturday Weekly Market Place
DESCRIPTION:
URL:https://stthomasbushwick.org/event/saturday-weekly-market-place-6/
CATEGORIES:Market Place
END:VEVENT
BEGIN:VEVENT
DTSTART;TZID=America/New_York:20240107T120000
DTEND;TZID=America/New_York:20240107T140000
DTSTAMP:20260422T183835
CREATED:20221221T221117Z
LAST-MODIFIED:20230916T022713Z
UID:2299-1704628800-1704636000@stthomasbushwick.org
SUMMARY:Annual Parochial Meeting
DESCRIPTION:Following the 10am service.
URL:https://stthomasbushwick.org/event/annual-parochial-meeting/
CATEGORIES:Sunday
END:VEVENT
BEGIN:VEVENT
DTSTART;TZID=America/New_York:20240107T100000
DTEND;TZID=America/New_York:20240107T120000
DTSTAMP:20260422T183835
CREATED:20221108T161044Z
LAST-MODIFIED:20230916T022529Z
UID:1556-1704621600-1704628800@stthomasbushwick.org
SUMMARY:The Baptism of Christ
DESCRIPTION:
URL:https://stthomasbushwick.org/event/the-baptism-of-christ/
CATEGORIES:Sunday
END:VEVENT
BEGIN:VEVENT
DTSTART;TZID=America/New_York:20240106T100000
DTEND;TZID=America/New_York:20240106T140000
DTSTAMP:20260422T183835
CREATED:20221108T162709Z
LAST-MODIFIED:20230916T021740Z
UID:1562-1704535200-1704549600@stthomasbushwick.org
SUMMARY:Saturday Weekly Market Place
DESCRIPTION:
URL:https://stthomasbushwick.org/event/saturday-weekly-market-place-5/
CATEGORIES:Market Place
END:VEVENT
BEGIN:VEVENT
DTSTART;VALUE=DATE:20240106
DTEND;VALUE=DATE:20240107
DTSTAMP:20260422T183835
CREATED:20230908T141419Z
LAST-MODIFIED:20230908T141419Z
UID:3824-1704499200-1704585599@stthomasbushwick.org
SUMMARY:The Epiphany
DESCRIPTION:
URL:https://stthomasbushwick.org/event/the-epiphany/
LOCATION:St.  Thomas Episcopal Church\, 1405 Bushwick Ave\, Brooklyn\, NY\, 11207\, United States
END:VEVENT
BEGIN:VEVENT
DTSTART;VALUE=DATE:20240106
DTEND;VALUE=DATE:20240107
DTSTAMP:20260422T183835
CREATED:20221115T205012Z
LAST-MODIFIED:20230916T022345Z
UID:1754-1704499200-1704585599@stthomasbushwick.org
SUMMARY:Feast of Epiphany
DESCRIPTION:
URL:https://stthomasbushwick.org/event/feast-of-epiphany/
END:VEVENT
BEGIN:VEVENT
DTSTART;TZID=America/New_York:20240104T100000
DTEND;TZID=America/New_York:20240104T140000
DTSTAMP:20260422T183835
CREATED:20221207T201238Z
LAST-MODIFIED:20230916T030305Z
UID:2065-1704362400-1704376800@stthomasbushwick.org
SUMMARY:St. Thomas Closet
DESCRIPTION:Baby clothes and other supplies available for free\, Every 1st and 3rd Thursday from 10:00am- 2:00pm \nwww.stthomascloset.com
URL:https://stthomasbushwick.org/event/free-baby-clothes-and-supplies-6/
CATEGORIES:BabyClothes
ATTACH;FMTTYPE=image/png:https://stthomasbushwick.org/uploads/2022/12/stclosetlogo.png
END:VEVENT
BEGIN:VEVENT
DTSTART;VALUE=DATE:20240101
DTEND;VALUE=DATE:20240102
DTSTAMP:20260422T183835
CREATED:20230908T141301Z
LAST-MODIFIED:20230908T141301Z
UID:3822-1704067200-1704153599@stthomasbushwick.org
SUMMARY:The Holy Name
DESCRIPTION:
URL:https://stthomasbushwick.org/event/the-holy-name-2/
END:VEVENT
BEGIN:VEVENT
DTSTART;TZID=America/New_York:20231231T221500
DTEND;TZID=America/New_York:20240101T033000
DTSTAMP:20260422T183835
CREATED:20221109T142724Z
LAST-MODIFIED:20230908T140729Z
UID:1702-1704060900-1704079800@stthomasbushwick.org
SUMMARY:New Years Eve Service 10:15pm
DESCRIPTION:Dropping of the ball followed by Celebratory Banquet and Dance (New Years Eve Party)
URL:https://stthomasbushwick.org/event/new-years-eve-service-1015pm/
LOCATION:St.  Thomas Episcopal Church\, 1405 Bushwick Ave\, Brooklyn\, NY\, 11207\, United States
END:VEVENT
BEGIN:VEVENT
DTSTART;TZID=America/New_York:20231231T100000
DTEND;TZID=America/New_York:20231231T120000
DTSTAMP:20260422T183835
CREATED:20230908T135033Z
LAST-MODIFIED:20230908T140349Z
UID:3810-1704016800-1704024000@stthomasbushwick.org
SUMMARY:Haiti Independence (Celebration)
DESCRIPTION:
URL:https://stthomasbushwick.org/event/haiti-independence/
CATEGORIES:International Day
ATTACH;FMTTYPE=image/jpeg:https://stthomasbushwick.org/uploads/2023/09/haiti-flag-square-1280x720-1.jpg
END:VEVENT
BEGIN:VEVENT
DTSTART;TZID=America/New_York:20231230T100000
DTEND;TZID=America/New_York:20231230T140000
DTSTAMP:20260422T183835
CREATED:20221201T163533Z
LAST-MODIFIED:20221209T002921Z
UID:1967-1703930400-1703944800@stthomasbushwick.org
SUMMARY:Saturday Weekly Market Place
DESCRIPTION:
URL:https://stthomasbushwick.org/event/saturday-weekly-market-place-56/
CATEGORIES:Market Place
END:VEVENT
BEGIN:VEVENT
DTSTART;VALUE=DATE:20231227
DTEND;VALUE=DATE:20231228
DTSTAMP:20260422T183835
CREATED:20230908T134619Z
LAST-MODIFIED:20230908T134619Z
UID:3808-1703635200-1703721599@stthomasbushwick.org
SUMMARY:St. John the Apostle
DESCRIPTION:
URL:https://stthomasbushwick.org/event/st-john-the-apostle/
END:VEVENT
BEGIN:VEVENT
DTSTART;TZID=America/New_York:20231225T100000
DTEND;TZID=America/New_York:20231225T100000
DTSTAMP:20260422T183835
CREATED:20221109T142157Z
LAST-MODIFIED:20221210T012320Z
UID:1700-1703498400-1703498400@stthomasbushwick.org
SUMMARY:Christmas Day Service 10:00am
DESCRIPTION:
URL:https://stthomasbushwick.org/event/christmas-day-service-1000am/
CATEGORIES:Holiday
END:VEVENT
BEGIN:VEVENT
DTSTART;TZID=America/New_York:20231224T190000
DTEND;TZID=America/New_York:20231224T190000
DTSTAMP:20260422T183835
CREATED:20221109T142050Z
LAST-MODIFIED:20221210T151033Z
UID:1698-1703444400-1703444400@stthomasbushwick.org
SUMMARY:Christmas Eve Service
DESCRIPTION:
URL:https://stthomasbushwick.org/event/christmas-eve-eucharist-and-carols/
END:VEVENT
BEGIN:VEVENT
DTSTART;TZID=America/New_York:20231224T100000
DTEND;TZID=America/New_York:20231224T120000
DTSTAMP:20260422T183835
CREATED:20221109T141955Z
LAST-MODIFIED:20221210T012418Z
UID:1696-1703412000-1703419200@stthomasbushwick.org
SUMMARY:Advent Lessons and Carols 10:00AM
DESCRIPTION:
URL:https://stthomasbushwick.org/event/advent-lessons-and-carols-1000am/
CATEGORIES:Sunday
END:VEVENT
BEGIN:VEVENT
DTSTART;TZID=America/New_York:20231224T100000
DTEND;TZID=America/New_York:20231224T120000
DTSTAMP:20260422T183835
CREATED:20221109T141846Z
LAST-MODIFIED:20221209T230157Z
UID:1694-1703412000-1703419200@stthomasbushwick.org
SUMMARY:Feast of St. Thomas the Apostle
DESCRIPTION:
URL:https://stthomasbushwick.org/event/feast-of-st-thomas-the-apostle/
CATEGORIES:Sunday
END:VEVENT
BEGIN:VEVENT
DTSTART;TZID=America/New_York:20231223T100000
DTEND;TZID=America/New_York:20231223T140000
DTSTAMP:20260422T183835
CREATED:20221201T163456Z
LAST-MODIFIED:20221209T231811Z
UID:1965-1703325600-1703340000@stthomasbushwick.org
SUMMARY:Saturday Weekly Market Place
DESCRIPTION:
URL:https://stthomasbushwick.org/event/saturday-weekly-market-place-55/
CATEGORIES:Market Place
END:VEVENT
BEGIN:VEVENT
DTSTART;TZID=America/New_York:20231223T100000
DTEND;TZID=America/New_York:20231223T120000
DTSTAMP:20260422T183835
CREATED:20231209T025804Z
LAST-MODIFIED:20231209T025804Z
UID:4081-1703325600-1703332800@stthomasbushwick.org
SUMMARY:Christmas Pageant Full Run-Through Rehearsal
DESCRIPTION:Please attend a full run-through for the pageant on Sunday December 23rd.
URL:https://stthomasbushwick.org/event/christmas-pageant-full-run-through-rehearsal/
END:VEVENT
BEGIN:VEVENT
DTSTART;TZID=America/New_York:20231221T100000
DTEND;TZID=America/New_York:20231221T140000
DTSTAMP:20260422T183835
CREATED:20221207T203411Z
LAST-MODIFIED:20221221T204558Z
UID:2106-1703152800-1703167200@stthomasbushwick.org
SUMMARY:St. Thomas Closet
DESCRIPTION:Baby clothes and other supplies available for free\, Every 1st and 3rd Thursday from 10:00am- 2:00pm \nwww.stthomascloset.com
URL:https://stthomasbushwick.org/event/free-baby-clothes-and-supplies-26/
CATEGORIES:BabyClothes
ATTACH;FMTTYPE=image/png:https://stthomasbushwick.org/uploads/2022/12/stclosetlogo.png
END:VEVENT
BEGIN:VEVENT
DTSTART;VALUE=DATE:20231221
DTEND;VALUE=DATE:20231222
DTSTAMP:20260422T183835
CREATED:20221115T204044Z
LAST-MODIFIED:20221115T204044Z
UID:1752-1703116800-1703203199@stthomasbushwick.org
SUMMARY:St. Thomas the Apostle
DESCRIPTION:
URL:https://stthomasbushwick.org/event/st-thomas-the-apostle/
END:VEVENT
BEGIN:VEVENT
DTSTART;TZID=America/New_York:20231217T120000
DTEND;TZID=America/New_York:20231217T133000
DTSTAMP:20260422T183835
CREATED:20231209T025609Z
LAST-MODIFIED:20231209T030034Z
UID:4079-1702814400-1702819800@stthomasbushwick.org
SUMMARY:Christmas Pageant Rehearsal
DESCRIPTION:Please attend after church service for rehearsal.
URL:https://stthomasbushwick.org/event/christmas-pageant-rehearsal-2/
END:VEVENT
BEGIN:VEVENT
DTSTART;TZID=America/New_York:20231216T100000
DTEND;TZID=America/New_York:20231216T140000
DTSTAMP:20260422T183835
CREATED:20221201T163406Z
LAST-MODIFIED:20221209T232405Z
UID:1963-1702720800-1702735200@stthomasbushwick.org
SUMMARY:Saturday Weekly Market Place
DESCRIPTION:
URL:https://stthomasbushwick.org/event/saturday-weekly-market-place-54/
CATEGORIES:Market Place
END:VEVENT
BEGIN:VEVENT
DTSTART;TZID=America/New_York:20231210T120000
DTEND;TZID=America/New_York:20231210T133000
DTSTAMP:20260422T183835
CREATED:20231209T025529Z
LAST-MODIFIED:20231209T025948Z
UID:4077-1702209600-1702215000@stthomasbushwick.org
SUMMARY:Christmas Pageant Rehearsal
DESCRIPTION:Please attend after church service for rehearsal.
URL:https://stthomasbushwick.org/event/christmas-pageant-rehearsal/
END:VEVENT
BEGIN:VEVENT
DTSTART;TZID=America/New_York:20231209T100000
DTEND;TZID=America/New_York:20231209T140000
DTSTAMP:20260422T183835
CREATED:20221201T163337Z
LAST-MODIFIED:20221209T232508Z
UID:1961-1702116000-1702130400@stthomasbushwick.org
SUMMARY:Saturday Weekly Market Place
DESCRIPTION:
URL:https://stthomasbushwick.org/event/saturday-weekly-market-place-53/
CATEGORIES:Market Place
END:VEVENT
BEGIN:VEVENT
DTSTART;TZID=America/New_York:20231207T100000
DTEND;TZID=America/New_York:20231207T140000
DTSTAMP:20260422T183835
CREATED:20221207T203209Z
LAST-MODIFIED:20221221T204217Z
UID:2104-1701943200-1701957600@stthomasbushwick.org
SUMMARY:St. Thomas Closet
DESCRIPTION:Baby clothes and other supplies available for free\, Every 1st and 3rd Thursday from 10:00am- 2:00pm \nwww.stthomascloset.com
URL:https://stthomasbushwick.org/event/free-baby-clothes-and-supplies-25/
CATEGORIES:BabyClothes
ATTACH;FMTTYPE=image/png:https://stthomasbushwick.org/uploads/2022/12/stclosetlogo.png
END:VEVENT
BEGIN:VEVENT
DTSTART;TZID=America/New_York:20231203T100000
DTEND;TZID=America/New_York:20231203T120000
DTSTAMP:20260422T183835
CREATED:20221109T141525Z
LAST-MODIFIED:20221221T220807Z
UID:1692-1701597600-1701604800@stthomasbushwick.org
SUMMARY:Barbados Independence (Celebration)
DESCRIPTION:
URL:https://stthomasbushwick.org/event/barbados-independence-celebrate/
CATEGORIES:International Day
ATTACH;FMTTYPE=image/png:https://stthomasbushwick.org/uploads/2022/12/Barbados.png
END:VEVENT
BEGIN:VEVENT
DTSTART;TZID=America/New_York:20231203T100000
DTEND;TZID=America/New_York:20231203T120000
DTSTAMP:20260422T183835
CREATED:20221109T141424Z
LAST-MODIFIED:20221221T220818Z
UID:1690-1701597600-1701604800@stthomasbushwick.org
SUMMARY:St. Vincent Independence (Celebration)
DESCRIPTION:
URL:https://stthomasbushwick.org/event/st-vincent-independence-celebrate/
CATEGORIES:International Day
ATTACH;FMTTYPE=image/png:https://stthomasbushwick.org/uploads/2022/12/Flag_of_Saint_Vincent_and_the_Grenadines.svg_.png
END:VEVENT
BEGIN:VEVENT
DTSTART;TZID=America/New_York:20231203T100000
DTEND;TZID=America/New_York:20231203T120000
DTSTAMP:20260422T183835
CREATED:20221109T141253Z
LAST-MODIFIED:20221209T232856Z
UID:1688-1701597600-1701604800@stthomasbushwick.org
SUMMARY:First Sunday in Advent
DESCRIPTION:
URL:https://stthomasbushwick.org/event/first-sunday-in-advent/
CATEGORIES:Sunday
END:VEVENT
BEGIN:VEVENT
DTSTART;TZID=America/New_York:20231202T100000
DTEND;TZID=America/New_York:20231202T140000
DTSTAMP:20260422T183835
CREATED:20221201T163308Z
LAST-MODIFIED:20221209T233112Z
UID:1959-1701511200-1701525600@stthomasbushwick.org
SUMMARY:Saturday Weekly Market Place
DESCRIPTION:
URL:https://stthomasbushwick.org/event/saturday-weekly-market-place-52/
CATEGORIES:Market Place
END:VEVENT
BEGIN:VEVENT
DTSTART;TZID=America/New_York:20231125T100000
DTEND;TZID=America/New_York:20231125T140000
DTSTAMP:20260422T183835
CREATED:20221201T160518Z
LAST-MODIFIED:20221209T234650Z
UID:1957-1700906400-1700920800@stthomasbushwick.org
SUMMARY:Saturday Weekly Market Place
DESCRIPTION:
URL:https://stthomasbushwick.org/event/saturday-weekly-market-place-51/
CATEGORIES:Market Place
END:VEVENT
END:VCALENDAR