BEGIN:VCALENDAR
VERSION:2.0
PRODID:-//St. Thomas Episcopal Church - ECPv6.0.6.2//NONSGML v1.0//EN
CALSCALE:GREGORIAN
METHOD:PUBLISH
X-WR-CALNAME:St. Thomas Episcopal Church
X-ORIGINAL-URL:https://stthomasbushwick.org
X-WR-CALDESC:Events for St. Thomas Episcopal Church
REFRESH-INTERVAL;VALUE=DURATION:PT1H
X-Robots-Tag:noindex
X-PUBLISHED-TTL:PT1H
BEGIN:VTIMEZONE
TZID:America/New_York
BEGIN:DAYLIGHT
TZOFFSETFROM:-0500
TZOFFSETTO:-0400
TZNAME:EDT
DTSTART:20220313T070000
END:DAYLIGHT
BEGIN:STANDARD
TZOFFSETFROM:-0400
TZOFFSETTO:-0500
TZNAME:EST
DTSTART:20221106T060000
END:STANDARD
END:VTIMEZONE
BEGIN:VEVENT
DTSTART;TZID=America/New_York:20221112T100000
DTEND;TZID=America/New_York:20221112T160000
DTSTAMP:20260425T184024
CREATED:20221107T040719Z
LAST-MODIFIED:20221210T012138Z
UID:1517-1668247200-1668268800@stthomasbushwick.org
SUMMARY:Saturday Weekly Market Place
DESCRIPTION:Saturday Marketplace\nClothes\, Linens\, Household items\, Shoes\, etc.\n(Weather Permitting)
URL:https://stthomasbushwick.org/event/saturday-weekly-marketplace/
CATEGORIES:Market Place
END:VEVENT
END:VCALENDAR