BEGIN:VCALENDAR
VERSION:2.0
PRODID:-//St. Thomas Episcopal Church - ECPv6.0.6.2//NONSGML v1.0//EN
CALSCALE:GREGORIAN
METHOD:PUBLISH
X-WR-CALNAME:St. Thomas Episcopal Church
X-ORIGINAL-URL:https://stthomasbushwick.org
X-WR-CALDESC:Events for St. Thomas Episcopal Church
REFRESH-INTERVAL;VALUE=DURATION:PT1H
X-Robots-Tag:noindex
X-PUBLISHED-TTL:PT1H
BEGIN:VTIMEZONE
TZID:America/New_York
BEGIN:DAYLIGHT
TZOFFSETFROM:-0500
TZOFFSETTO:-0400
TZNAME:EDT
DTSTART:20220313T070000
END:DAYLIGHT
BEGIN:STANDARD
TZOFFSETFROM:-0400
TZOFFSETTO:-0500
TZNAME:EST
DTSTART:20221106T060000
END:STANDARD
BEGIN:DAYLIGHT
TZOFFSETFROM:-0500
TZOFFSETTO:-0400
TZNAME:EDT
DTSTART:20230312T070000
END:DAYLIGHT
BEGIN:STANDARD
TZOFFSETFROM:-0400
TZOFFSETTO:-0500
TZNAME:EST
DTSTART:20231105T060000
END:STANDARD
END:VTIMEZONE
BEGIN:VEVENT
DTSTART;TZID=America/New_York:20231102T100000
DTEND;TZID=America/New_York:20231102T140000
DTSTAMP:20260421T212050
CREATED:20221207T202945Z
LAST-MODIFIED:20221221T204951Z
UID:2100-1698919200-1698933600@stthomasbushwick.org
SUMMARY:St. Thomas Closet
DESCRIPTION:Baby clothes and other supplies available for free\, Every 1st and 3rd Thursday from 10:00am- 2:00pm \nwww.stthomascloset.com
URL:https://stthomasbushwick.org/event/free-baby-clothes-and-supplies-23/
CATEGORIES:BabyClothes
ATTACH;FMTTYPE=image/png:https://stthomasbushwick.org/uploads/2022/12/stclosetlogo.png
END:VEVENT
BEGIN:VEVENT
DTSTART;VALUE=DATE:20231101
DTEND;VALUE=DATE:20231102
DTSTAMP:20260421T212050
CREATED:20221115T203513Z
LAST-MODIFIED:20221115T203513Z
UID:1750-1698796800-1698883199@stthomasbushwick.org
SUMMARY:All Saints Day
DESCRIPTION:
URL:https://stthomasbushwick.org/event/all-saints-day/
END:VEVENT
BEGIN:VEVENT
DTSTART;VALUE=DATE:20231031
DTEND;VALUE=DATE:20231101
DTSTAMP:20260421T212050
CREATED:20230908T022331Z
LAST-MODIFIED:20230908T041507Z
UID:3713-1698710400-1698796799@stthomasbushwick.org
SUMMARY:Vigil of All Saint (White For Vigil)
DESCRIPTION:
URL:https://stthomasbushwick.org/event/vigil-of-all-saint-white-for-virgil/
END:VEVENT
BEGIN:VEVENT
DTSTART;TZID=America/New_York:20231028T100000
DTEND;TZID=America/New_York:20231028T140000
DTSTAMP:20260421T212050
CREATED:20221201T160045Z
LAST-MODIFIED:20221210T000917Z
UID:1949-1698487200-1698501600@stthomasbushwick.org
SUMMARY:Saturday Weekly Market Place
DESCRIPTION:
URL:https://stthomasbushwick.org/event/saturday-weekly-market-place-47/
CATEGORIES:Market Place
END:VEVENT
BEGIN:VEVENT
DTSTART;TZID=America/New_York:20231021T100000
DTEND;TZID=America/New_York:20231021T140000
DTSTAMP:20260421T212050
CREATED:20221201T155952Z
LAST-MODIFIED:20221210T001845Z
UID:1947-1697882400-1697896800@stthomasbushwick.org
SUMMARY:Saturday Weekly Market Place
DESCRIPTION:
URL:https://stthomasbushwick.org/event/saturday-weekly-market-place-46/
CATEGORIES:Market Place
END:VEVENT
BEGIN:VEVENT
DTSTART;TZID=America/New_York:20231019T100000
DTEND;TZID=America/New_York:20231019T140000
DTSTAMP:20260421T212050
CREATED:20221207T202846Z
LAST-MODIFIED:20221221T205113Z
UID:2098-1697709600-1697724000@stthomasbushwick.org
SUMMARY:St. Thomas Closet
DESCRIPTION:Baby clothes and other supplies available for free\, Every 1st and 3rd Thursday from 10:00am- 2:00pm \nwww.stthomascloset.com
URL:https://stthomasbushwick.org/event/free-baby-clothes-and-supplies-22/
CATEGORIES:BabyClothes
ATTACH;FMTTYPE=image/png:https://stthomasbushwick.org/uploads/2022/12/stclosetlogo.png
END:VEVENT
BEGIN:VEVENT
DTSTART;TZID=America/New_York:20231014T100000
DTEND;TZID=America/New_York:20231014T140000
DTSTAMP:20260421T212050
CREATED:20221201T155752Z
LAST-MODIFIED:20221210T001909Z
UID:1945-1697277600-1697292000@stthomasbushwick.org
SUMMARY:Saturday Weekly Market Place
DESCRIPTION:
URL:https://stthomasbushwick.org/event/saturday-weekly-market-place-45/
CATEGORIES:Market Place
END:VEVENT
BEGIN:VEVENT
DTSTART;TZID=America/New_York:20231007T180000
DTEND;TZID=America/New_York:20231007T230000
DTSTAMP:20260421T212050
CREATED:20230908T022203Z
LAST-MODIFIED:20230908T022849Z
UID:3711-1696701600-1696719600@stthomasbushwick.org
SUMMARY:Panamanian Marching Band Event
DESCRIPTION:
URL:https://stthomasbushwick.org/event/panamanian-marching-band-event/
END:VEVENT
BEGIN:VEVENT
DTSTART;TZID=America/New_York:20231007T100000
DTEND;TZID=America/New_York:20231007T140000
DTSTAMP:20260421T212050
CREATED:20221207T202753Z
LAST-MODIFIED:20221221T205221Z
UID:2096-1696672800-1696687200@stthomasbushwick.org
SUMMARY:St. Thomas Closet
DESCRIPTION:Baby clothes and other supplies available for free\, Every 1st and 3rd Thursday from 10:00am- 2:00pm \nwww.stthomascloset.com
URL:https://stthomasbushwick.org/event/free-baby-clothes-and-supplies-21/
CATEGORIES:BabyClothes
ATTACH;FMTTYPE=image/png:https://stthomasbushwick.org/uploads/2022/12/stclosetlogo.png
END:VEVENT
BEGIN:VEVENT
DTSTART;TZID=America/New_York:20231007T100000
DTEND;TZID=America/New_York:20231007T140000
DTSTAMP:20260421T212050
CREATED:20221201T155711Z
LAST-MODIFIED:20221210T001936Z
UID:1943-1696672800-1696687200@stthomasbushwick.org
SUMMARY:Saturday Weekly Market Place
DESCRIPTION:
URL:https://stthomasbushwick.org/event/saturday-weekly-market-place-44/
CATEGORIES:Market Place
END:VEVENT
BEGIN:VEVENT
DTSTART;TZID=America/New_York:20231001T100000
DTEND;TZID=America/New_York:20231001T120000
DTSTAMP:20260421T212050
CREATED:20221108T171238Z
LAST-MODIFIED:20221221T220838Z
UID:1570-1696154400-1696161600@stthomasbushwick.org
SUMMARY:Nigeria Independence (Celebration)
DESCRIPTION:
URL:https://stthomasbushwick.org/event/nigeria-independence-celebrate/
CATEGORIES:International Day
ATTACH;FMTTYPE=image/png:https://stthomasbushwick.org/uploads/2022/12/flag-nigerii-1.png
END:VEVENT
BEGIN:VEVENT
DTSTART;TZID=America/New_York:20230930T100000
DTEND;TZID=America/New_York:20230930T140000
DTSTAMP:20260421T212050
CREATED:20221201T155626Z
LAST-MODIFIED:20221210T002002Z
UID:1941-1696068000-1696082400@stthomasbushwick.org
SUMMARY:Saturday Weekly Market Place
DESCRIPTION:
URL:https://stthomasbushwick.org/event/saturday-weekly-market-place-43/
CATEGORIES:Market Place
END:VEVENT
BEGIN:VEVENT
DTSTART;TZID=America/New_York:20230924T100000
DTEND;TZID=America/New_York:20230924T120000
DTSTAMP:20260421T212050
CREATED:20221108T171140Z
LAST-MODIFIED:20221221T220846Z
UID:1568-1695549600-1695556800@stthomasbushwick.org
SUMMARY:Belize Independence (Celebration)
DESCRIPTION:
URL:https://stthomasbushwick.org/event/belize-independence-celebrate/
CATEGORIES:International Day
ATTACH;FMTTYPE=image/png:https://stthomasbushwick.org/uploads/2022/12/Flag_of_Belize.svg_.png
END:VEVENT
BEGIN:VEVENT
DTSTART;TZID=America/New_York:20230923T100000
DTEND;TZID=America/New_York:20230923T170000
DTSTAMP:20260421T212050
CREATED:20230922T135838Z
LAST-MODIFIED:20230922T135838Z
UID:3881-1695463200-1695488400@stthomasbushwick.org
SUMMARY:St. Matthew Deanery Service
DESCRIPTION:
URL:https://stthomasbushwick.org/event/st-matthew-deanery-service/
LOCATION:St. Mary Episcopal Church\, 230 Classon Avenue\, Brooklyn\, NY\, 11205\, United States
END:VEVENT
BEGIN:VEVENT
DTSTART;TZID=America/New_York:20230923T100000
DTEND;TZID=America/New_York:20230923T140000
DTSTAMP:20260421T212050
CREATED:20221201T155542Z
LAST-MODIFIED:20221210T002037Z
UID:1939-1695463200-1695477600@stthomasbushwick.org
SUMMARY:Saturday Weekly Market Place
DESCRIPTION:
URL:https://stthomasbushwick.org/event/saturday-weekly-market-place-42/
CATEGORIES:Market Place
END:VEVENT
BEGIN:VEVENT
DTSTART;TZID=America/New_York:20230921T100000
DTEND;TZID=America/New_York:20230921T140000
DTSTAMP:20260421T212050
CREATED:20221207T202633Z
LAST-MODIFIED:20221221T205423Z
UID:2093-1695290400-1695304800@stthomasbushwick.org
SUMMARY:St. Thomas Closet
DESCRIPTION:Baby clothes and other supplies available for free\, Every 1st and 3rd Thursday from 10:00am- 2:00pm \nwww.stthomascloset.com
URL:https://stthomasbushwick.org/event/free-baby-clothes-and-supplies-20/
CATEGORIES:BabyClothes
ATTACH;FMTTYPE=image/png:https://stthomasbushwick.org/uploads/2022/12/stclosetlogo.png
END:VEVENT
BEGIN:VEVENT
DTSTART;TZID=America/New_York:20230917T100000
DTEND;TZID=America/New_York:20230917T120000
DTSTAMP:20260421T212050
CREATED:20230908T020742Z
LAST-MODIFIED:20230908T020807Z
UID:3709-1694944800-1694952000@stthomasbushwick.org
SUMMARY:Homecoming Service
DESCRIPTION:
URL:https://stthomasbushwick.org/event/homecoming-service/
CATEGORIES:Sunday
END:VEVENT
BEGIN:VEVENT
DTSTART;TZID=America/New_York:20230917T100000
DTEND;TZID=America/New_York:20230917T120000
DTSTAMP:20260421T212050
CREATED:20221108T171036Z
LAST-MODIFIED:20230907T193424Z
UID:1566-1694944800-1694952000@stthomasbushwick.org
SUMMARY:Costa Rica\, Honduras\, & Nicaragua\, St Kitts & Nevis Independence (Celebration)
DESCRIPTION: 
URL:https://stthomasbushwick.org/event/costa-rica-honduras-nicaragua-st-kitt-nevis-independence-celebrate/
CATEGORIES:International Day
ATTACH;FMTTYPE=image/jpeg:https://stthomasbushwick.org/uploads/2022/12/costa-rica-flag-e1694115224746.jpg
END:VEVENT
BEGIN:VEVENT
DTSTART;TZID=America/New_York:20230916T100000
DTEND;TZID=America/New_York:20230917T120000
DTSTAMP:20260421T212050
CREATED:20221108T170840Z
LAST-MODIFIED:20230907T051159Z
UID:1564-1694858400-1694952000@stthomasbushwick.org
SUMMARY:Homecoming Weekend
DESCRIPTION:
URL:https://stthomasbushwick.org/event/homecoming-sunday/
CATEGORIES:Sunday
END:VEVENT
BEGIN:VEVENT
DTSTART;TZID=America/New_York:20230916T100000
DTEND;TZID=America/New_York:20230916T140000
DTSTAMP:20260421T212050
CREATED:20221201T155425Z
LAST-MODIFIED:20221210T004951Z
UID:1937-1694858400-1694872800@stthomasbushwick.org
SUMMARY:Saturday Weekly Market Place
DESCRIPTION:
URL:https://stthomasbushwick.org/event/saturday-weekly-market-place-41/
CATEGORIES:Market Place
END:VEVENT
BEGIN:VEVENT
DTSTART;TZID=America/New_York:20230909T100000
DTEND;TZID=America/New_York:20230909T140000
DTSTAMP:20260421T212050
CREATED:20221201T155346Z
LAST-MODIFIED:20221210T005138Z
UID:1935-1694253600-1694268000@stthomasbushwick.org
SUMMARY:Saturday Weekly Market Place
DESCRIPTION:
URL:https://stthomasbushwick.org/event/saturday-weekly-market-place-40/
CATEGORIES:Market Place
END:VEVENT
BEGIN:VEVENT
DTSTART;TZID=America/New_York:20230907T100000
DTEND;TZID=America/New_York:20230907T140000
DTSTAMP:20260421T212050
CREATED:20221207T202542Z
LAST-MODIFIED:20221221T205924Z
UID:2091-1694080800-1694095200@stthomasbushwick.org
SUMMARY:St. Thomas Closet
DESCRIPTION:Baby clothes and other supplies available for free\, Every 1st and 3rd Thursday from 10:00am- 2:00pm \nwww.stthomascloset.com
URL:https://stthomasbushwick.org/event/free-baby-clothes-and-supplies-19/
CATEGORIES:BabyClothes
ATTACH;FMTTYPE=image/png:https://stthomasbushwick.org/uploads/2022/12/stclosetlogo.png
END:VEVENT
BEGIN:VEVENT
DTSTART;TZID=America/New_York:20230903T100000
DTEND;TZID=America/New_York:20230903T120000
DTSTAMP:20260421T212050
CREATED:20221107T172210Z
LAST-MODIFIED:20221221T220914Z
UID:1549-1693735200-1693742400@stthomasbushwick.org
SUMMARY:Trinidad & Tobago Independence (Celebration)
DESCRIPTION:
URL:https://stthomasbushwick.org/event/trinidad-tobago-independence-celebrate/
CATEGORIES:International Day
ATTACH;FMTTYPE=image/png:https://stthomasbushwick.org/uploads/2022/12/1920px-Flag_of_Trinidad_and_Tobago.svg_-1.png
END:VEVENT
BEGIN:VEVENT
DTSTART;TZID=America/New_York:20221231T220000
DTEND;TZID=America/New_York:20221231T235900
DTSTAMP:20260421T212050
CREATED:20221207T033500Z
LAST-MODIFIED:20221207T033941Z
UID:2051-1672524000-1672531140@stthomasbushwick.org
SUMMARY:New Years Eve Service
DESCRIPTION:A MOMENT OF TESTIMONIES\, PRAISE & THANKSGIVING  \nFOLLOWED BY THE DROPPING OF THE BALL & RECEPTION IF POSSIBLE \n 
URL:https://stthomasbushwick.org/event/new-years-eve-service/
END:VEVENT
BEGIN:VEVENT
DTSTART;TZID=America/New_York:20221225T100000
DTEND;TZID=America/New_York:20221225T123000
DTSTAMP:20260421T212050
CREATED:20221207T034102Z
LAST-MODIFIED:20221210T011941Z
UID:2055-1671962400-1671971400@stthomasbushwick.org
SUMMARY:Christmas Day Service
DESCRIPTION:
URL:https://stthomasbushwick.org/event/christmas-day-service/
CATEGORIES:Holiday,Sunday
END:VEVENT
BEGIN:VEVENT
DTSTART;TZID=America/New_York:20221224T190000
DTEND;TZID=America/New_York:20221224T210000
DTSTAMP:20260421T212050
CREATED:20221207T033226Z
LAST-MODIFIED:20221210T150922Z
UID:2049-1671908400-1671915600@stthomasbushwick.org
SUMMARY:Christmas Eve Service
DESCRIPTION:
URL:https://stthomasbushwick.org/event/christmas-eve-eucharist-and-carols-2/
END:VEVENT
BEGIN:VEVENT
DTSTART;TZID=America/New_York:20221218T100000
DTEND;TZID=America/New_York:20221218T130000
DTSTAMP:20260421T212050
CREATED:20221031T233243Z
LAST-MODIFIED:20221210T012055Z
UID:1269-1671357600-1671368400@stthomasbushwick.org
SUMMARY:150th Anniversary Eucharistic Service
DESCRIPTION:Eucharistic Celebration Service with Bishop Provenzano
URL:https://stthomasbushwick.org/event/150th-anniversary-eucharistic-service/
CATEGORIES:Sunday
ATTACH;FMTTYPE=image/png:https://stthomasbushwick.org/uploads/2022/10/anniversary-service-e1667792900397.png
END:VEVENT
BEGIN:VEVENT
DTSTART;TZID=America/New_York:20221218T100000
DTEND;TZID=America/New_York:20221218T120000
DTSTAMP:20260421T212050
CREATED:20221210T151510Z
LAST-MODIFIED:20221210T151510Z
UID:2157-1671357600-1671364800@stthomasbushwick.org
SUMMARY:Fourth Sunday of Advent
DESCRIPTION:
URL:https://stthomasbushwick.org/event/fourth-sunday-of-advent/
CATEGORIES:Sunday
END:VEVENT
BEGIN:VEVENT
DTSTART;TZID=America/New_York:20221217T100000
DTEND;TZID=America/New_York:20221217T160000
DTSTAMP:20260421T212050
CREATED:20221108T162457Z
LAST-MODIFIED:20221210T013129Z
UID:1560-1671271200-1671292800@stthomasbushwick.org
SUMMARY:Saturday Weekly Market Place
DESCRIPTION:
URL:https://stthomasbushwick.org/event/saturday-weekly-market-place-4/
CATEGORIES:Market Place
END:VEVENT
BEGIN:VEVENT
DTSTART;TZID=America/New_York:20221215T100000
DTEND;TZID=America/New_York:20221215T140000
DTSTAMP:20260421T212050
CREATED:20221207T200651Z
LAST-MODIFIED:20221221T214155Z
UID:2057-1671098400-1671112800@stthomasbushwick.org
SUMMARY:St. Thomas Closet
DESCRIPTION:Baby clothes and other supplies available for free\, Every 1st and 3rd Thursday from 10:00am- 2:00pm \nwww.stthomascloset.com
URL:https://stthomasbushwick.org/event/free-baby-clothes-and-supplies-2/
CATEGORIES:BabyClothes
ATTACH;FMTTYPE=image/png:https://stthomasbushwick.org/uploads/2022/12/stclosetlogo.png
END:VEVENT
END:VCALENDAR