BEGIN:VCALENDAR
VERSION:2.0
PRODID:-//St. Thomas Episcopal Church - ECPv6.0.6.2//NONSGML v1.0//EN
CALSCALE:GREGORIAN
METHOD:PUBLISH
X-WR-CALNAME:St. Thomas Episcopal Church
X-ORIGINAL-URL:https://stthomasbushwick.org
X-WR-CALDESC:Events for St. Thomas Episcopal Church
REFRESH-INTERVAL;VALUE=DURATION:PT1H
X-Robots-Tag:noindex
X-PUBLISHED-TTL:PT1H
BEGIN:VTIMEZONE
TZID:America/New_York
BEGIN:DAYLIGHT
TZOFFSETFROM:-0500
TZOFFSETTO:-0400
TZNAME:EDT
DTSTART:20230312T070000
END:DAYLIGHT
BEGIN:STANDARD
TZOFFSETFROM:-0400
TZOFFSETTO:-0500
TZNAME:EST
DTSTART:20231105T060000
END:STANDARD
END:VTIMEZONE
BEGIN:VEVENT
DTSTART;TZID=America/New_York:20231203T100000
DTEND;TZID=America/New_York:20231203T120000
DTSTAMP:20260422T060950
CREATED:20221109T141253Z
LAST-MODIFIED:20221209T232856Z
UID:1688-1701597600-1701604800@stthomasbushwick.org
SUMMARY:First Sunday in Advent
DESCRIPTION:
URL:https://stthomasbushwick.org/event/first-sunday-in-advent/
CATEGORIES:Sunday
END:VEVENT
BEGIN:VEVENT
DTSTART;TZID=America/New_York:20231224T100000
DTEND;TZID=America/New_York:20231224T120000
DTSTAMP:20260422T060950
CREATED:20221109T141846Z
LAST-MODIFIED:20221209T230157Z
UID:1694-1703412000-1703419200@stthomasbushwick.org
SUMMARY:Feast of St. Thomas the Apostle
DESCRIPTION:
URL:https://stthomasbushwick.org/event/feast-of-st-thomas-the-apostle/
CATEGORIES:Sunday
END:VEVENT
BEGIN:VEVENT
DTSTART;TZID=America/New_York:20231224T100000
DTEND;TZID=America/New_York:20231224T120000
DTSTAMP:20260422T060950
CREATED:20221109T141955Z
LAST-MODIFIED:20221210T012418Z
UID:1696-1703412000-1703419200@stthomasbushwick.org
SUMMARY:Advent Lessons and Carols 10:00AM
DESCRIPTION:
URL:https://stthomasbushwick.org/event/advent-lessons-and-carols-1000am/
CATEGORIES:Sunday
END:VEVENT
END:VCALENDAR