BEGIN:VCALENDAR
VERSION:2.0
PRODID:-//St. Thomas Episcopal Church - ECPv6.0.6.2//NONSGML v1.0//EN
CALSCALE:GREGORIAN
METHOD:PUBLISH
X-ORIGINAL-URL:https://stthomasbushwick.org
X-WR-CALDESC:Events for St. Thomas Episcopal Church
REFRESH-INTERVAL;VALUE=DURATION:PT1H
X-Robots-Tag:noindex
X-PUBLISHED-TTL:PT1H
BEGIN:VTIMEZONE
TZID:America/New_York
BEGIN:DAYLIGHT
TZOFFSETFROM:-0500
TZOFFSETTO:-0400
TZNAME:EDT
DTSTART:20220313T070000
END:DAYLIGHT
BEGIN:STANDARD
TZOFFSETFROM:-0400
TZOFFSETTO:-0500
TZNAME:EST
DTSTART:20221106T060000
END:STANDARD
BEGIN:DAYLIGHT
TZOFFSETFROM:-0500
TZOFFSETTO:-0400
TZNAME:EDT
DTSTART:20230312T070000
END:DAYLIGHT
BEGIN:STANDARD
TZOFFSETFROM:-0400
TZOFFSETTO:-0500
TZNAME:EST
DTSTART:20231105T060000
END:STANDARD
END:VTIMEZONE
BEGIN:VEVENT
DTSTART;TZID=America/New_York:20230930T100000
DTEND;TZID=America/New_York:20230930T140000
DTSTAMP:20260421T103158
CREATED:20221201T155626Z
LAST-MODIFIED:20221210T002002Z
UID:1941-1696068000-1696082400@stthomasbushwick.org
SUMMARY:Saturday Weekly Market Place
DESCRIPTION:
URL:https://stthomasbushwick.org/event/saturday-weekly-market-place-43/
CATEGORIES:Market Place
END:VEVENT
BEGIN:VEVENT
DTSTART;TZID=America/New_York:20230923T100000
DTEND;TZID=America/New_York:20230923T140000
DTSTAMP:20260421T103158
CREATED:20221201T155542Z
LAST-MODIFIED:20221210T002037Z
UID:1939-1695463200-1695477600@stthomasbushwick.org
SUMMARY:Saturday Weekly Market Place
DESCRIPTION:
URL:https://stthomasbushwick.org/event/saturday-weekly-market-place-42/
CATEGORIES:Market Place
END:VEVENT
BEGIN:VEVENT
DTSTART;TZID=America/New_York:20230916T100000
DTEND;TZID=America/New_York:20230916T140000
DTSTAMP:20260421T103158
CREATED:20221201T155425Z
LAST-MODIFIED:20221210T004951Z
UID:1937-1694858400-1694872800@stthomasbushwick.org
SUMMARY:Saturday Weekly Market Place
DESCRIPTION:
URL:https://stthomasbushwick.org/event/saturday-weekly-market-place-41/
CATEGORIES:Market Place
END:VEVENT
BEGIN:VEVENT
DTSTART;TZID=America/New_York:20230909T100000
DTEND;TZID=America/New_York:20230909T140000
DTSTAMP:20260421T103158
CREATED:20221201T155346Z
LAST-MODIFIED:20221210T005138Z
UID:1935-1694253600-1694268000@stthomasbushwick.org
SUMMARY:Saturday Weekly Market Place
DESCRIPTION:
URL:https://stthomasbushwick.org/event/saturday-weekly-market-place-40/
CATEGORIES:Market Place
END:VEVENT
BEGIN:VEVENT
DTSTART;TZID=America/New_York:20221217T100000
DTEND;TZID=America/New_York:20221217T160000
DTSTAMP:20260421T103158
CREATED:20221108T162457Z
LAST-MODIFIED:20221210T013129Z
UID:1560-1671271200-1671292800@stthomasbushwick.org
SUMMARY:Saturday Weekly Market Place
DESCRIPTION:
URL:https://stthomasbushwick.org/event/saturday-weekly-market-place-4/
CATEGORIES:Market Place
END:VEVENT
BEGIN:VEVENT
DTSTART;TZID=America/New_York:20221210T100000
DTEND;TZID=America/New_York:20221210T160000
DTSTAMP:20260421T103158
CREATED:20221108T162356Z
LAST-MODIFIED:20221210T013214Z
UID:1558-1670666400-1670688000@stthomasbushwick.org
SUMMARY:Saturday Weekly Market Place
DESCRIPTION:
URL:https://stthomasbushwick.org/event/saturday-weekly-market-place-3/
CATEGORIES:Market Place
END:VEVENT
BEGIN:VEVENT
DTSTART;TZID=America/New_York:20221203T100000
DTEND;TZID=America/New_York:20221203T140000
DTSTAMP:20260421T103158
CREATED:20221107T183304Z
LAST-MODIFIED:20221210T013225Z
UID:1551-1670061600-1670076000@stthomasbushwick.org
SUMMARY:Saturday Weekly Market Place
DESCRIPTION:
URL:https://stthomasbushwick.org/event/saturday-weekly-market-place-2/
CATEGORIES:Market Place
END:VEVENT
BEGIN:VEVENT
DTSTART;TZID=America/New_York:20221126T100000
DTEND;TZID=America/New_York:20221126T160000
DTSTAMP:20260421T103158
CREATED:20221107T040912Z
LAST-MODIFIED:20221107T182148Z
UID:1521-1669456800-1669478400@stthomasbushwick.org
SUMMARY:Saturday Weekly Market Place
DESCRIPTION:Saturday Marketplace\nClothes\, Linens\, Household items\, Shoes\, etc.\n(Weather Permitting)
URL:https://stthomasbushwick.org/event/saturday-weekly-market-place/
CATEGORIES:Market Place
END:VEVENT
BEGIN:VEVENT
DTSTART;TZID=America/New_York:20221119T100000
DTEND;TZID=America/New_York:20221119T160000
DTSTAMP:20260421T103158
CREATED:20221107T040827Z
LAST-MODIFIED:20221107T182238Z
UID:1519-1668852000-1668873600@stthomasbushwick.org
SUMMARY:Saturday Weekly Market Place
DESCRIPTION:Saturday Marketplace\nClothes\, Linens\, Household items\, Shoes\, etc.\n(Weather Permitting)
URL:https://stthomasbushwick.org/event/saturday-weekly-marketplace-2/
CATEGORIES:Market Place
END:VEVENT
BEGIN:VEVENT
DTSTART;TZID=America/New_York:20221112T100000
DTEND;TZID=America/New_York:20221112T160000
DTSTAMP:20260421T103158
CREATED:20221107T040719Z
LAST-MODIFIED:20221210T012138Z
UID:1517-1668247200-1668268800@stthomasbushwick.org
SUMMARY:Saturday Weekly Market Place
DESCRIPTION:Saturday Marketplace\nClothes\, Linens\, Household items\, Shoes\, etc.\n(Weather Permitting)
URL:https://stthomasbushwick.org/event/saturday-weekly-marketplace/
CATEGORIES:Market Place
END:VEVENT
END:VCALENDAR