BEGIN:VCALENDAR
VERSION:2.0
PRODID:-//St. Thomas Episcopal Church - ECPv6.0.6.2//NONSGML v1.0//EN
CALSCALE:GREGORIAN
METHOD:PUBLISH
X-WR-CALNAME:St. Thomas Episcopal Church
X-ORIGINAL-URL:https://stthomasbushwick.org
X-WR-CALDESC:Events for St. Thomas Episcopal Church
REFRESH-INTERVAL;VALUE=DURATION:PT1H
X-Robots-Tag:noindex
X-PUBLISHED-TTL:PT1H
BEGIN:VTIMEZONE
TZID:America/New_York
BEGIN:DAYLIGHT
TZOFFSETFROM:-0500
TZOFFSETTO:-0400
TZNAME:EDT
DTSTART:20230312T070000
END:DAYLIGHT
BEGIN:STANDARD
TZOFFSETFROM:-0400
TZOFFSETTO:-0500
TZNAME:EST
DTSTART:20231105T060000
END:STANDARD
BEGIN:DAYLIGHT
TZOFFSETFROM:-0500
TZOFFSETTO:-0400
TZNAME:EDT
DTSTART:20240310T070000
END:DAYLIGHT
BEGIN:STANDARD
TZOFFSETFROM:-0400
TZOFFSETTO:-0500
TZNAME:EST
DTSTART:20241103T060000
END:STANDARD
END:VTIMEZONE
BEGIN:VEVENT
DTSTART;TZID=America/New_York:20240608T100000
DTEND;TZID=America/New_York:20240608T140000
DTSTAMP:20260421T061223
CREATED:20221201T045509Z
LAST-MODIFIED:20230916T032531Z
UID:1909-1717840800-1717855200@stthomasbushwick.org
SUMMARY:Saturday Weekly Market Place
DESCRIPTION:
URL:https://stthomasbushwick.org/event/saturday-weekly-market-place-27/
CATEGORIES:Market Place
END:VEVENT
BEGIN:VEVENT
DTSTART;TZID=America/New_York:20240601T100000
DTEND;TZID=America/New_York:20240601T140000
DTSTAMP:20260421T061223
CREATED:20221201T045230Z
LAST-MODIFIED:20230916T032301Z
UID:1907-1717236000-1717250400@stthomasbushwick.org
SUMMARY:Saturday Weekly Market Place
DESCRIPTION:
URL:https://stthomasbushwick.org/event/saturday-weekly-market-place-26/
CATEGORIES:Market Place
END:VEVENT
BEGIN:VEVENT
DTSTART;TZID=America/New_York:20240525T100000
DTEND;TZID=America/New_York:20240525T140000
DTSTAMP:20260421T061223
CREATED:20221201T045001Z
LAST-MODIFIED:20230916T031919Z
UID:1905-1716631200-1716645600@stthomasbushwick.org
SUMMARY:Saturday Weekly Market Place
DESCRIPTION:
URL:https://stthomasbushwick.org/event/saturday-weekly-market-place-25/
CATEGORIES:Market Place
END:VEVENT
BEGIN:VEVENT
DTSTART;TZID=America/New_York:20240518T100000
DTEND;TZID=America/New_York:20240518T140000
DTSTAMP:20260421T061223
CREATED:20221201T044901Z
LAST-MODIFIED:20230916T031859Z
UID:1903-1716026400-1716040800@stthomasbushwick.org
SUMMARY:Saturday Weekly Market Place
DESCRIPTION:
URL:https://stthomasbushwick.org/event/saturday-weekly-market-place-24/
CATEGORIES:Market Place
END:VEVENT
BEGIN:VEVENT
DTSTART;TZID=America/New_York:20240511T100000
DTEND;TZID=America/New_York:20240511T140000
DTSTAMP:20260421T061223
CREATED:20221201T044809Z
LAST-MODIFIED:20230916T031526Z
UID:1901-1715421600-1715436000@stthomasbushwick.org
SUMMARY:Saturday Weekly Market Place
DESCRIPTION:
URL:https://stthomasbushwick.org/event/saturday-weekly-market-place-23/
CATEGORIES:Market Place
END:VEVENT
BEGIN:VEVENT
DTSTART;TZID=America/New_York:20240504T100000
DTEND;TZID=America/New_York:20240504T140000
DTSTAMP:20260421T061223
CREATED:20221201T044634Z
LAST-MODIFIED:20230916T031509Z
UID:1899-1714816800-1714831200@stthomasbushwick.org
SUMMARY:Saturday Weekly Market Place
DESCRIPTION:
URL:https://stthomasbushwick.org/event/saturday-weekly-market-place-22/
CATEGORIES:Market Place
END:VEVENT
BEGIN:VEVENT
DTSTART;TZID=America/New_York:20240427T100000
DTEND;TZID=America/New_York:20240427T140000
DTSTAMP:20260421T061223
CREATED:20221201T044233Z
LAST-MODIFIED:20230916T030903Z
UID:1897-1714212000-1714226400@stthomasbushwick.org
SUMMARY:Saturday Weekly Market Place
DESCRIPTION:
URL:https://stthomasbushwick.org/event/saturday-weekly-market-place-21/
CATEGORIES:Market Place
END:VEVENT
BEGIN:VEVENT
DTSTART;TZID=America/New_York:20240420T100000
DTEND;TZID=America/New_York:20240420T140000
DTSTAMP:20260421T061223
CREATED:20221201T044151Z
LAST-MODIFIED:20230916T030847Z
UID:1895-1713607200-1713621600@stthomasbushwick.org
SUMMARY:Saturday Weekly Market Place
DESCRIPTION:
URL:https://stthomasbushwick.org/event/saturday-weekly-market-place-20/
CATEGORIES:Market Place
END:VEVENT
BEGIN:VEVENT
DTSTART;TZID=America/New_York:20240413T100000
DTEND;TZID=America/New_York:20240413T140000
DTSTAMP:20260421T061223
CREATED:20221201T043944Z
LAST-MODIFIED:20230916T030817Z
UID:1893-1713002400-1713016800@stthomasbushwick.org
SUMMARY:Saturday Weekly Market Place
DESCRIPTION:
URL:https://stthomasbushwick.org/event/saturday-weekly-market-place-19/
CATEGORIES:Market Place
END:VEVENT
BEGIN:VEVENT
DTSTART;TZID=America/New_York:20240406T100000
DTEND;TZID=America/New_York:20240406T140000
DTSTAMP:20260421T061223
CREATED:20221201T043833Z
LAST-MODIFIED:20230916T030658Z
UID:1891-1712397600-1712412000@stthomasbushwick.org
SUMMARY:Saturday Weekly Market Place
DESCRIPTION:
URL:https://stthomasbushwick.org/event/saturday-weekly-market-place-18/
CATEGORIES:Market Place
END:VEVENT
BEGIN:VEVENT
DTSTART;TZID=America/New_York:20240330T100000
DTEND;TZID=America/New_York:20240330T140000
DTSTAMP:20260421T061223
CREATED:20221201T043706Z
LAST-MODIFIED:20230916T025146Z
UID:1889-1711792800-1711807200@stthomasbushwick.org
SUMMARY:Saturday Weekly Market Place
DESCRIPTION:
URL:https://stthomasbushwick.org/event/saturday-weekly-market-place-17/
CATEGORIES:Market Place
END:VEVENT
BEGIN:VEVENT
DTSTART;TZID=America/New_York:20240323T100000
DTEND;TZID=America/New_York:20240323T140000
DTSTAMP:20260421T061223
CREATED:20221201T043529Z
LAST-MODIFIED:20230916T025049Z
UID:1887-1711188000-1711202400@stthomasbushwick.org
SUMMARY:Saturday Weekly Market Place
DESCRIPTION:
URL:https://stthomasbushwick.org/event/saturday-weekly-market-place-16/
CATEGORIES:Market Place
END:VEVENT
BEGIN:VEVENT
DTSTART;TZID=America/New_York:20240316T100000
DTEND;TZID=America/New_York:20240316T140000
DTSTAMP:20260421T061223
CREATED:20221201T043428Z
LAST-MODIFIED:20230916T024950Z
UID:1885-1710583200-1710597600@stthomasbushwick.org
SUMMARY:Saturday Weekly Market Place
DESCRIPTION:
URL:https://stthomasbushwick.org/event/saturday-weekly-market-place-15/
CATEGORIES:Market Place
END:VEVENT
BEGIN:VEVENT
DTSTART;TZID=America/New_York:20240309T100000
DTEND;TZID=America/New_York:20240309T140000
DTSTAMP:20260421T061223
CREATED:20221201T043237Z
LAST-MODIFIED:20230916T024757Z
UID:1883-1709978400-1709992800@stthomasbushwick.org
SUMMARY:Saturday Weekly Market Place
DESCRIPTION:
URL:https://stthomasbushwick.org/event/saturday-weekly-market-place-14/
CATEGORIES:Market Place
END:VEVENT
BEGIN:VEVENT
DTSTART;TZID=America/New_York:20240302T100000
DTEND;TZID=America/New_York:20240302T140000
DTSTAMP:20260421T061223
CREATED:20221201T043057Z
LAST-MODIFIED:20230916T024352Z
UID:1881-1709373600-1709388000@stthomasbushwick.org
SUMMARY:Saturday Weekly Market Place
DESCRIPTION:
URL:https://stthomasbushwick.org/event/saturday-weekly-market-place-13/
CATEGORIES:Market Place
END:VEVENT
BEGIN:VEVENT
DTSTART;TZID=America/New_York:20240224T100000
DTEND;TZID=America/New_York:20240224T140000
DTSTAMP:20260421T061223
CREATED:20221201T043013Z
LAST-MODIFIED:20230916T023117Z
UID:1879-1708768800-1708783200@stthomasbushwick.org
SUMMARY:Saturday Weekly Market Place
DESCRIPTION:
URL:https://stthomasbushwick.org/event/saturday-weekly-market-place-12/
CATEGORIES:Market Place
END:VEVENT
BEGIN:VEVENT
DTSTART;TZID=America/New_York:20240217T100000
DTEND;TZID=America/New_York:20240217T140000
DTSTAMP:20260421T061223
CREATED:20221201T042909Z
LAST-MODIFIED:20230916T023048Z
UID:1877-1708164000-1708178400@stthomasbushwick.org
SUMMARY:Saturday Weekly Market Place
DESCRIPTION:
URL:https://stthomasbushwick.org/event/saturday-weekly-market-place-11/
CATEGORIES:Market Place
END:VEVENT
BEGIN:VEVENT
DTSTART;TZID=America/New_York:20240210T100000
DTEND;TZID=America/New_York:20240210T140000
DTSTAMP:20260421T061223
CREATED:20221201T042712Z
LAST-MODIFIED:20230916T022931Z
UID:1875-1707559200-1707573600@stthomasbushwick.org
SUMMARY:Saturday Weekly Market Place
DESCRIPTION:
URL:https://stthomasbushwick.org/event/saturday-weekly-market-place-10/
CATEGORIES:Market Place
END:VEVENT
BEGIN:VEVENT
DTSTART;TZID=America/New_York:20240203T100000
DTEND;TZID=America/New_York:20240203T140000
DTSTAMP:20260421T061223
CREATED:20221201T042619Z
LAST-MODIFIED:20230916T022859Z
UID:1873-1706954400-1706968800@stthomasbushwick.org
SUMMARY:Saturday Weekly Market Place
DESCRIPTION:
URL:https://stthomasbushwick.org/event/saturday-weekly-market-place-9/
CATEGORIES:Market Place
END:VEVENT
BEGIN:VEVENT
DTSTART;TZID=America/New_York:20240127T100000
DTEND;TZID=America/New_York:20240127T140000
DTSTAMP:20260421T061223
CREATED:20221201T042350Z
LAST-MODIFIED:20230915T021356Z
UID:1871-1706349600-1706364000@stthomasbushwick.org
SUMMARY:Saturday Weekly Market Place
DESCRIPTION:`
URL:https://stthomasbushwick.org/event/saturday-weekly-market-place-8/
CATEGORIES:Market Place
END:VEVENT
BEGIN:VEVENT
DTSTART;TZID=America/New_York:20240120T100000
DTEND;TZID=America/New_York:20240120T140000
DTSTAMP:20260421T061223
CREATED:20221201T041842Z
LAST-MODIFIED:20230915T021627Z
UID:1869-1705744800-1705759200@stthomasbushwick.org
SUMMARY:Saturday Weekly Market Place
DESCRIPTION:
URL:https://stthomasbushwick.org/event/saturday-weekly-market-place-7/
CATEGORIES:Market Place
END:VEVENT
BEGIN:VEVENT
DTSTART;TZID=America/New_York:20240113T100000
DTEND;TZID=America/New_York:20240113T140000
DTSTAMP:20260421T061223
CREATED:20221201T041729Z
LAST-MODIFIED:20230916T021815Z
UID:1867-1705140000-1705154400@stthomasbushwick.org
SUMMARY:Saturday Weekly Market Place
DESCRIPTION:
URL:https://stthomasbushwick.org/event/saturday-weekly-market-place-6/
CATEGORIES:Market Place
END:VEVENT
BEGIN:VEVENT
DTSTART;TZID=America/New_York:20240106T100000
DTEND;TZID=America/New_York:20240106T140000
DTSTAMP:20260421T061223
CREATED:20221108T162709Z
LAST-MODIFIED:20230916T021740Z
UID:1562-1704535200-1704549600@stthomasbushwick.org
SUMMARY:Saturday Weekly Market Place
DESCRIPTION:
URL:https://stthomasbushwick.org/event/saturday-weekly-market-place-5/
CATEGORIES:Market Place
END:VEVENT
BEGIN:VEVENT
DTSTART;TZID=America/New_York:20231230T100000
DTEND;TZID=America/New_York:20231230T140000
DTSTAMP:20260421T061223
CREATED:20221201T163533Z
LAST-MODIFIED:20221209T002921Z
UID:1967-1703930400-1703944800@stthomasbushwick.org
SUMMARY:Saturday Weekly Market Place
DESCRIPTION:
URL:https://stthomasbushwick.org/event/saturday-weekly-market-place-56/
CATEGORIES:Market Place
END:VEVENT
BEGIN:VEVENT
DTSTART;TZID=America/New_York:20231223T100000
DTEND;TZID=America/New_York:20231223T140000
DTSTAMP:20260421T061223
CREATED:20221201T163456Z
LAST-MODIFIED:20221209T231811Z
UID:1965-1703325600-1703340000@stthomasbushwick.org
SUMMARY:Saturday Weekly Market Place
DESCRIPTION:
URL:https://stthomasbushwick.org/event/saturday-weekly-market-place-55/
CATEGORIES:Market Place
END:VEVENT
BEGIN:VEVENT
DTSTART;TZID=America/New_York:20231216T100000
DTEND;TZID=America/New_York:20231216T140000
DTSTAMP:20260421T061223
CREATED:20221201T163406Z
LAST-MODIFIED:20221209T232405Z
UID:1963-1702720800-1702735200@stthomasbushwick.org
SUMMARY:Saturday Weekly Market Place
DESCRIPTION:
URL:https://stthomasbushwick.org/event/saturday-weekly-market-place-54/
CATEGORIES:Market Place
END:VEVENT
BEGIN:VEVENT
DTSTART;TZID=America/New_York:20231209T100000
DTEND;TZID=America/New_York:20231209T140000
DTSTAMP:20260421T061223
CREATED:20221201T163337Z
LAST-MODIFIED:20221209T232508Z
UID:1961-1702116000-1702130400@stthomasbushwick.org
SUMMARY:Saturday Weekly Market Place
DESCRIPTION:
URL:https://stthomasbushwick.org/event/saturday-weekly-market-place-53/
CATEGORIES:Market Place
END:VEVENT
BEGIN:VEVENT
DTSTART;TZID=America/New_York:20231202T100000
DTEND;TZID=America/New_York:20231202T140000
DTSTAMP:20260421T061223
CREATED:20221201T163308Z
LAST-MODIFIED:20221209T233112Z
UID:1959-1701511200-1701525600@stthomasbushwick.org
SUMMARY:Saturday Weekly Market Place
DESCRIPTION:
URL:https://stthomasbushwick.org/event/saturday-weekly-market-place-52/
CATEGORIES:Market Place
END:VEVENT
BEGIN:VEVENT
DTSTART;TZID=America/New_York:20231125T100000
DTEND;TZID=America/New_York:20231125T140000
DTSTAMP:20260421T061223
CREATED:20221201T160518Z
LAST-MODIFIED:20221209T234650Z
UID:1957-1700906400-1700920800@stthomasbushwick.org
SUMMARY:Saturday Weekly Market Place
DESCRIPTION:
URL:https://stthomasbushwick.org/event/saturday-weekly-market-place-51/
CATEGORIES:Market Place
END:VEVENT
BEGIN:VEVENT
DTSTART;TZID=America/New_York:20231118T100000
DTEND;TZID=America/New_York:20231118T140000
DTSTAMP:20260421T061224
CREATED:20221201T160434Z
LAST-MODIFIED:20221209T234732Z
UID:1955-1700301600-1700316000@stthomasbushwick.org
SUMMARY:Saturday Weekly Market Place
DESCRIPTION:
URL:https://stthomasbushwick.org/event/saturday-weekly-market-place-50/
CATEGORIES:Market Place
END:VEVENT
END:VCALENDAR