BEGIN:VCALENDAR
VERSION:2.0
PRODID:-//St. Thomas Episcopal Church - ECPv6.0.6.2//NONSGML v1.0//EN
CALSCALE:GREGORIAN
METHOD:PUBLISH
X-WR-CALNAME:St. Thomas Episcopal Church
X-ORIGINAL-URL:https://stthomasbushwick.org
X-WR-CALDESC:Events for St. Thomas Episcopal Church
REFRESH-INTERVAL;VALUE=DURATION:PT1H
X-Robots-Tag:noindex
X-PUBLISHED-TTL:PT1H
BEGIN:VTIMEZONE
TZID:America/New_York
BEGIN:DAYLIGHT
TZOFFSETFROM:-0500
TZOFFSETTO:-0400
TZNAME:EDT
DTSTART:20240310T070000
END:DAYLIGHT
BEGIN:STANDARD
TZOFFSETFROM:-0400
TZOFFSETTO:-0500
TZNAME:EST
DTSTART:20241103T060000
END:STANDARD
END:VTIMEZONE
BEGIN:VEVENT
DTSTART;VALUE=DATE:20240707
DTEND;VALUE=DATE:20240708
DTSTAMP:20260424T031610
CREATED:20221115T213948Z
LAST-MODIFIED:20230916T033030Z
UID:1768-1720310400-1720396799@stthomasbushwick.org
SUMMARY:United States Independence (Celebration)
DESCRIPTION:
URL:https://stthomasbushwick.org/event/united-states-independence-celebrate/
CATEGORIES:International Day
ATTACH;FMTTYPE=image/jpeg:https://stthomasbushwick.org/uploads/2022/12/free-printable-us-flag-scaled.jpg
END:VEVENT
BEGIN:VEVENT
DTSTART;TZID=America/New_York:20240707T100000
DTEND;TZID=America/New_York:20240707T120000
DTSTAMP:20260424T031610
CREATED:20221115T213650Z
LAST-MODIFIED:20230916T032935Z
UID:1766-1720346400-1720353600@stthomasbushwick.org
SUMMARY:Canada Independence (Celebration)
DESCRIPTION:
URL:https://stthomasbushwick.org/event/canada-independence-celebrate/
CATEGORIES:International Day
ATTACH;FMTTYPE=image/jpeg:https://stthomasbushwick.org/uploads/2022/12/ca-flag-scaled.jpg
END:VEVENT
END:VCALENDAR