BEGIN:VCALENDAR
VERSION:2.0
PRODID:-//St. Thomas Episcopal Church - ECPv6.0.6.2//NONSGML v1.0//EN
CALSCALE:GREGORIAN
METHOD:PUBLISH
X-ORIGINAL-URL:https://stthomasbushwick.org
X-WR-CALDESC:Events for St. Thomas Episcopal Church
REFRESH-INTERVAL;VALUE=DURATION:PT1H
X-Robots-Tag:noindex
X-PUBLISHED-TTL:PT1H
BEGIN:VTIMEZONE
TZID:America/New_York
BEGIN:DAYLIGHT
TZOFFSETFROM:-0500
TZOFFSETTO:-0400
TZNAME:EDT
DTSTART:20220313T070000
END:DAYLIGHT
BEGIN:STANDARD
TZOFFSETFROM:-0400
TZOFFSETTO:-0500
TZNAME:EST
DTSTART:20221106T060000
END:STANDARD
END:VTIMEZONE
BEGIN:VEVENT
DTSTART;TZID=America/New_York:20221225T100000
DTEND;TZID=America/New_York:20221225T123000
DTSTAMP:20260423T235704
CREATED:20221207T034102Z
LAST-MODIFIED:20221210T011941Z
UID:2055-1671962400-1671971400@stthomasbushwick.org
SUMMARY:Christmas Day Service
DESCRIPTION:
URL:https://stthomasbushwick.org/event/christmas-day-service/
CATEGORIES:Holiday,Sunday
END:VEVENT
END:VCALENDAR