BEGIN:VCALENDAR
VERSION:2.0
PRODID:-//St. Thomas Episcopal Church - ECPv6.0.6.2//NONSGML v1.0//EN
CALSCALE:GREGORIAN
METHOD:PUBLISH
X-ORIGINAL-URL:https://stthomasbushwick.org
X-WR-CALDESC:Events for St. Thomas Episcopal Church
REFRESH-INTERVAL;VALUE=DURATION:PT1H
X-Robots-Tag:noindex
X-PUBLISHED-TTL:PT1H
BEGIN:VTIMEZONE
TZID:America/New_York
BEGIN:DAYLIGHT
TZOFFSETFROM:-0500
TZOFFSETTO:-0400
TZNAME:EDT
DTSTART:20220313T070000
END:DAYLIGHT
BEGIN:STANDARD
TZOFFSETFROM:-0400
TZOFFSETTO:-0500
TZNAME:EST
DTSTART:20221106T060000
END:STANDARD
END:VTIMEZONE
BEGIN:VEVENT
DTSTART;TZID=America/New_York:20221215T100000
DTEND;TZID=America/New_York:20221215T140000
DTSTAMP:20260421T090851
CREATED:20221207T200651Z
LAST-MODIFIED:20221221T214155Z
UID:2057-1671098400-1671112800@stthomasbushwick.org
SUMMARY:St. Thomas Closet
DESCRIPTION:Baby clothes and other supplies available for free\, Every 1st and 3rd Thursday from 10:00am- 2:00pm \nwww.stthomascloset.com
URL:https://stthomasbushwick.org/event/free-baby-clothes-and-supplies-2/
CATEGORIES:BabyClothes
ATTACH;FMTTYPE=image/png:https://stthomasbushwick.org/uploads/2022/12/stclosetlogo.png
END:VEVENT
BEGIN:VEVENT
DTSTART;TZID=America/New_York:20221201T100000
DTEND;TZID=America/New_York:20221201T140000
DTSTAMP:20260421T090851
CREATED:20221221T214506Z
LAST-MODIFIED:20221221T214506Z
UID:2282-1669888800-1669903200@stthomasbushwick.org
SUMMARY:St. Thomas Closet
DESCRIPTION:Baby clothes and other supplies available for free\, Every 1st and 3rd Thursday from 10:00am- 2:00pm \nwww.stthomascloset.com
URL:https://stthomasbushwick.org/event/st-thomas-closet/
CATEGORIES:BabyClothes
ATTACH;FMTTYPE=image/png:https://stthomasbushwick.org/uploads/2022/12/stclosetlogo.png
END:VEVENT
BEGIN:VEVENT
DTSTART;TZID=America/New_York:20221117T100000
DTEND;TZID=America/New_York:20221117T140000
DTSTAMP:20260421T090851
CREATED:20221107T040328Z
LAST-MODIFIED:20221221T214357Z
UID:1514-1668679200-1668693600@stthomasbushwick.org
SUMMARY:St. Thomas Closet
DESCRIPTION:Baby clothes and other supplies available for free\, Every 1st and 3rd Thursday from 10:00am- 2:00pm \nwww.stthomascloset.com
URL:https://stthomasbushwick.org/event/free-baby-clothes-and-supplies/
CATEGORIES:BabyClothes
ATTACH;FMTTYPE=image/jpeg:https://stthomasbushwick.org/uploads/2022/11/free-baby-clothes-e1667793738266.jpg
END:VEVENT
END:VCALENDAR