BEGIN:VCALENDAR
VERSION:2.0
PRODID:-//St. Thomas Episcopal Church - ECPv6.0.6.2//NONSGML v1.0//EN
CALSCALE:GREGORIAN
METHOD:PUBLISH
X-ORIGINAL-URL:https://stthomasbushwick.org
X-WR-CALDESC:Events for St. Thomas Episcopal Church
REFRESH-INTERVAL;VALUE=DURATION:PT1H
X-Robots-Tag:noindex
X-PUBLISHED-TTL:PT1H
BEGIN:VTIMEZONE
TZID:America/New_York
BEGIN:DAYLIGHT
TZOFFSETFROM:-0500
TZOFFSETTO:-0400
TZNAME:EDT
DTSTART:20240310T070000
END:DAYLIGHT
BEGIN:STANDARD
TZOFFSETFROM:-0400
TZOFFSETTO:-0500
TZNAME:EST
DTSTART:20241103T060000
END:STANDARD
END:VTIMEZONE
BEGIN:VEVENT
DTSTART;TZID=America/New_York:20240502T100000
DTEND;TZID=America/New_York:20240502T140000
DTSTAMP:20260422T182250
CREATED:20221207T201801Z
LAST-MODIFIED:20230916T031452Z
UID:2075-1714644000-1714658400@stthomasbushwick.org
SUMMARY:St. Thomas Closet
DESCRIPTION:Baby clothes and other supplies available for free\, Every 1st and 3rd Thursday from 10:00am- 2:00pm \nwww.stthomascloset.com
URL:https://stthomasbushwick.org/event/free-baby-clothes-and-supplies-11/
CATEGORIES:BabyClothes
ATTACH;FMTTYPE=image/png:https://stthomasbushwick.org/uploads/2022/12/stclosetlogo.png
END:VEVENT
BEGIN:VEVENT
DTSTART;TZID=America/New_York:20240516T100000
DTEND;TZID=America/New_York:20240516T140000
DTSTAMP:20260422T182250
CREATED:20221207T201847Z
LAST-MODIFIED:20230916T031728Z
UID:2077-1715853600-1715868000@stthomasbushwick.org
SUMMARY:St. Thomas Closet
DESCRIPTION:Baby clothes and other supplies available for free\, Every 1st and 3rd Thursday from 10:00am- 2:00pm \nwww.stthomascloset.com
URL:https://stthomasbushwick.org/event/free-baby-clothes-and-supplies-12/
CATEGORIES:BabyClothes
ATTACH;FMTTYPE=image/png:https://stthomasbushwick.org/uploads/2022/12/stclosetlogo.png
END:VEVENT
END:VCALENDAR